BEGIN:VCALENDAR
VERSION:2.0
PRODID:KKTIX
CALSCALE:GREGORIAN
METHOD:PUBLISH
BEGIN:VTIMEZONE
TZID:Asia/Taipei
END:VTIMEZONE
BEGIN:VEVENT
DTSTAMP:20260421T124657Z
UID:aa06b459-2ad7-4095-96e6-899ee73b84d0
DTSTART:20260412T090000Z
DTEND:20260412T090000Z
CLASS:PUBLIC
DESCRIPTION:https://carry-international.kktix.cc/events/dde52ca2
LOCATION: (台北市大同區民權西路136號4樓) LCP Arena
SUMMARY:【4/12】LCP 2026 SPLIT 2
END:VEVENT
END:VCALENDAR
